BEGIN:VCALENDAR
VERSION:2.0
PRODID:-//King&#039;s Academy Brune Park - ECPv6.15.20//NONSGML v1.0//EN
CALSCALE:GREGORIAN
METHOD:PUBLISH
X-ORIGINAL-URL:https://kgabrunepark.uk
X-WR-CALDESC:Events for King&#039;s Academy Brune Park
REFRESH-INTERVAL;VALUE=DURATION:PT1H
X-Robots-Tag:noindex
X-PUBLISHED-TTL:PT1H
BEGIN:VTIMEZONE
TZID:Europe/London
BEGIN:DAYLIGHT
TZOFFSETFROM:+0000
TZOFFSETTO:+0100
TZNAME:BST
DTSTART:20240331T010000
END:DAYLIGHT
BEGIN:STANDARD
TZOFFSETFROM:+0100
TZOFFSETTO:+0000
TZNAME:GMT
DTSTART:20241027T010000
END:STANDARD
BEGIN:DAYLIGHT
TZOFFSETFROM:+0000
TZOFFSETTO:+0100
TZNAME:BST
DTSTART:20250330T010000
END:DAYLIGHT
BEGIN:STANDARD
TZOFFSETFROM:+0100
TZOFFSETTO:+0000
TZNAME:GMT
DTSTART:20251026T010000
END:STANDARD
BEGIN:DAYLIGHT
TZOFFSETFROM:+0000
TZOFFSETTO:+0100
TZNAME:BST
DTSTART:20260329T010000
END:DAYLIGHT
BEGIN:STANDARD
TZOFFSETFROM:+0100
TZOFFSETTO:+0000
TZNAME:GMT
DTSTART:20261025T010000
END:STANDARD
END:VTIMEZONE
BEGIN:VEVENT
DTSTART;TZID=Europe/London:20251202T163000
DTEND;TZID=Europe/London:20251202T190000
DTSTAMP:20260421T135458
CREATED:20251106T104748Z
LAST-MODIFIED:20251106T104748Z
UID:4085-1764693000-1764702000@kgabrunepark.uk
SUMMARY:Year 11 Revision Conference
DESCRIPTION:Year 11 Revision Conference
URL:https://kgabrunepark.uk/event/year-11-revision-conference/
END:VEVENT
BEGIN:VEVENT
DTSTART;TZID=Europe/London:20251127T160000
DTEND;TZID=Europe/London:20251127T190000
DTSTAMP:20260421T135458
CREATED:20251024T120843Z
LAST-MODIFIED:20251024T120844Z
UID:3978-1764259200-1764270000@kgabrunepark.uk
SUMMARY:Year 7 Meet the Tutor Evening
DESCRIPTION:Year 7 Meet the Tutor Evening
URL:https://kgabrunepark.uk/event/year-7-meet-the-tutor-evening/
END:VEVENT
BEGIN:VEVENT
DTSTART;TZID=Europe/London:20251027T000000
DTEND;TZID=Europe/London:20251031T235959
DTSTAMP:20260421T135458
CREATED:20251024T120321Z
LAST-MODIFIED:20251024T120425Z
UID:3974-1761523200-1761955199@kgabrunepark.uk
SUMMARY:October Half Term School Holiday
DESCRIPTION:October Half Term School Holiday
URL:https://kgabrunepark.uk/event/october-half-term-school-holiday/
END:VEVENT
BEGIN:VEVENT
DTSTART;TZID=Europe/London:20251009T160000
DTEND;TZID=Europe/London:20251009T190000
DTSTAMP:20260421T135458
CREATED:20251003T100205Z
LAST-MODIFIED:20251003T100206Z
UID:3874-1760025600-1760036400@kgabrunepark.uk
SUMMARY:Year 10 Parents' Evening
DESCRIPTION:Year 10 Parents’ Evening will be taking place on Thursday 9th October between 4:00pm – 7:00pm.
URL:https://kgabrunepark.uk/event/year-10-parents-evening/
ATTACH;FMTTYPE=image/jpeg:https://kgabrunepark.uk/wp-content/uploads/sites/7/2025/10/KABP-Year-10-Parents-Evening.avif
END:VEVENT
BEGIN:VEVENT
DTSTART;TZID=Europe/London:20251002T163000
DTEND;TZID=Europe/London:20251002T190000
DTSTAMP:20260421T135458
CREATED:20251002T095430Z
LAST-MODIFIED:20251002T095431Z
UID:3859-1759422600-1759431600@kgabrunepark.uk
SUMMARY:Year 11 - Route to Success Evening
DESCRIPTION:We look forward to welcoming Year 11 parents and pupils to our ‘Route to Success’ Evening. \n\n\n\nMeet Local Collages & Sixth FormsExplore your options and ask questions about post-16 courses \n\n\n\nHear the Heads of English\, Maths\, and Science talk about their top revision strategies and ways to be successful in their subject areas.Please save the date and check your email for booking information!
URL:https://kgabrunepark.uk/event/year-11-route-to-success-evening/
END:VEVENT
BEGIN:VEVENT
DTSTART;TZID=Europe/London:20250925T163000
DTEND;TZID=Europe/London:20250925T190000
DTSTAMP:20260421T135458
CREATED:20250915T103239Z
LAST-MODIFIED:20250915T103240Z
UID:3786-1758817800-1758826800@kgabrunepark.uk
SUMMARY:Open Evening for Year 6
DESCRIPTION:● This is a great chance for families to learn aboutour values\, ethos and what makes our school a specialplace to consider for next September 2026 \n\n\n\n● Join us to explore what King’s Academy BrunePark has to offer\, including opportunities to view ourdifferent departments\, meet staff\, see our uniformand speak with the Senior Leadership Team \n\n\n\n● Headteacher\, Miss Kerry Payne\, will give talksat 4:30pm\, 5:30pm and 6:30pm
URL:https://kgabrunepark.uk/event/open-evening-for-year-6/
ATTACH;FMTTYPE=image/png:https://kgabrunepark.uk/wp-content/uploads/sites/7/2025/09/Open-Evening.avif
END:VEVENT
BEGIN:VEVENT
DTSTART;TZID=Europe/London:20250904T130000
DTEND;TZID=Europe/London:20250904T151500
DTSTAMP:20260421T135458
CREATED:20250829T081949Z
LAST-MODIFIED:20250829T132658Z
UID:3718-1756990800-1756998900@kgabrunepark.uk
SUMMARY:Year 10 & 11 Return
DESCRIPTION:
URL:https://kgabrunepark.uk/event/year-10-11-return-break-2/
END:VEVENT
BEGIN:VEVENT
DTSTART;TZID=Europe/London:20250904T105500
DTEND;TZID=Europe/London:20250904T151500
DTSTAMP:20260421T135458
CREATED:20250829T081704Z
LAST-MODIFIED:20250829T132646Z
UID:3715-1756983300-1756998900@kgabrunepark.uk
SUMMARY:Year 8 & 9 Return
DESCRIPTION:
URL:https://kgabrunepark.uk/event/year-8-9-return-break-1/
END:VEVENT
BEGIN:VEVENT
DTSTART;TZID=Europe/London:20250904T000000
DTEND;TZID=Europe/London:20250904T235959
DTSTAMP:20260421T135458
CREATED:20250812T135915Z
LAST-MODIFIED:20250812T135928Z
UID:2631-1756944000-1757030399@kgabrunepark.uk
SUMMARY:Year 7 - First Day
DESCRIPTION:Year 7 – First Day
URL:https://kgabrunepark.uk/event/year-7-first-day/
END:VEVENT
BEGIN:VEVENT
DTSTART;TZID=Europe/London:20250902T000000
DTEND;TZID=Europe/London:20250903T235959
DTSTAMP:20260421T135458
CREATED:20250812T135755Z
LAST-MODIFIED:20250812T135827Z
UID:2626-1756771200-1756943999@kgabrunepark.uk
SUMMARY:Professional Learning INSET Day
DESCRIPTION:Professional Learning INSET Day
URL:https://kgabrunepark.uk/event/professional-learning-inset-day/
END:VEVENT
END:VCALENDAR